BEGIN:VCALENDAR
VERSION:2.0
PRODID:-//Librería Liberespacio - ECPv4.5.13//NONSGML v1.0//EN
CALSCALE:GREGORIAN
METHOD:PUBLISH
X-WR-CALNAME:Librería Liberespacio
X-ORIGINAL-URL:https://www.liberespacio.com
X-WR-CALDESC:Events for Librería Liberespacio
BEGIN:VEVENT
DTSTART;TZID=Europe/Madrid:20241018T173000
DTEND;TZID=Europe/Madrid:20241018T193000
DTSTAMP:20260422T140104
CREATED:20241001T121024Z
LAST-MODIFIED:20241001T144750Z
UID:37869-1729272600-1729279800@www.liberespacio.com
SUMMARY:Babycuentos de otoño
DESCRIPTION:El viernes 18 de octubre a las 17:30 y a las 18:30 ofreceremos dos nuevas sesiones de nuestros babycuentos. El tema de esta sesión será el otoño.\nVen con tu peque y descubre un mundo de imaginación\, colores\, emociones y sensaciones\,  de la mano de la profesora Meraki de Letrimagia y Liberespacio.\nEntrada de 1 bebé + 1 adulto\nActividad presencial con reserva y pago anticipado\n\n10€ bebé más adulto y 5€ familiar (bebé o adulto) adicional.\n\n\n\n\n\n Entrada sesión de las 17:30h.\n\n\n Entrada sesión de las 18:30h.\n\n\n\n\n\nPlazas limitadas\nHemos preparado una selección de libros con temática otoñal para esta sesión. ¡Ven a descubrirlos!\n \n
URL:https://www.liberespacio.com/eventos/babycuentos-de-otono/
LOCATION:C/Joaquín María López\, 25\, Madrid\, Madrid\, 28015\, España
CATEGORIES:Actividades en la librería,Actividades para bebés,Cuentacuentos,Fomento de la lectura,Rimas y Poesías
ATTACH;FMTTYPE=image/png:https://www.liberespacio.com/wp-content/uploads/2024/10/Babycuentos_otoño_24.png
ORGANIZER;CN="Librer%C3%ADa%20Liberespacio":MAILTO:info@liberespacio.com
END:VEVENT
END:VCALENDAR