BEGIN:VCALENDAR
VERSION:2.0
PRODID:-//Librería Liberespacio - ECPv4.5.13//NONSGML v1.0//EN
CALSCALE:GREGORIAN
METHOD:PUBLISH
X-WR-CALNAME:Librería Liberespacio
X-ORIGINAL-URL:https://www.liberespacio.com
X-WR-CALDESC:Events for Librería Liberespacio
BEGIN:VEVENT
DTSTART;TZID=UTC+0:20180210T180000
DTEND;TZID=UTC+0:20180210T190000
DTSTAMP:20260421T205743
CREATED:20180110T170034Z
LAST-MODIFIED:20180305T111616Z
UID:7495-1518285600-1518289200@www.liberespacio.com
SUMMARY:Ayesha Rubio nos cuenta el lobo y caperucita\, la historia jamás contada
DESCRIPTION:Sábado 10 de febrero a las 18:00\nActividad familiar gratuita sin reserva hasta completar aforo.\n+ 4 Años\nLa autora e ilustradora Ayesha Rubio nos cuenta El lobo y caperucita\, la historia jamás contada\, enseñará a los niños a dibujar al lobo y comeremos pastel de frambuesa y después firmará ejemplares.\nLe acompañará la ilustradora Esther Gili.\nPodéis venir disfrazados de lobos\, caperucitas\, cazadores\, abuelitas…\nCon la colaboración de la editorial Penguin Random House\n
URL:https://www.liberespacio.com/eventos/ayesha-rubio-nos-cuenta-lobo-caperucita-la-historia-jamas-contada/
LOCATION:C/Joaquín María López\, 25\, Madrid\, Madrid\, 28015\, España
CATEGORIES:Actividades en la librería,Encuentros con autores y presentaciones
ATTACH;FMTTYPE=image/jpeg:https://www.liberespacio.com/wp-content/uploads/2018/02/Ayesha-Rubio-nos-cuenta....jpg
ORGANIZER;CN="Librer%C3%ADa%20Liberespacio":MAILTO:info@liberespacio.com
END:VEVENT
END:VCALENDAR