BEGIN:VCALENDAR
VERSION:2.0
PRODID:-//Librería Liberespacio - ECPv4.5.13//NONSGML v1.0//EN
CALSCALE:GREGORIAN
METHOD:PUBLISH
X-WR-CALNAME:Librería Liberespacio
X-ORIGINAL-URL:https://www.liberespacio.com
X-WR-CALDESC:Events for Librería Liberespacio
BEGIN:VEVENT
DTSTART;TZID=Europe/Madrid:20260114T193000
DTEND;TZID=Europe/Madrid:20260114T210000
DTSTAMP:20260421T192657
CREATED:20260105T081536Z
LAST-MODIFIED:20260108T165121Z
UID:43139-1768419000-1768424400@www.liberespacio.com
SUMMARY:Anatomía de los Clásicos con Lola Nuñez
DESCRIPTION:Este año os proponemos un taller literario para adultos ofrecido por la escritora y editora Lola Nuñez\, con una sesión mensual de octubre a junio.\nCuarta sesión: Frankestein\nMiércoles 14 de enero\, a las 19:30\nPrecio 25 euros por sesión.\nEn cada sesión\, diseccionaremos una obra clásica con la autora Lola Núñez  para comprender su mensaje\, su contexto y la historia que se oculta en el fondo de sus páginas. Conversaremos\, extraeremos sus entresijos y exploraremos su alma y su tiempo; seremos a la vez observadores y creadores.\n¿Te apuntas a esta aventura?\n Compra aquí tu entrada \n
URL:https://www.liberespacio.com/eventos/anatomia-de-los-clasicos-con-lola-nunez-4/
LOCATION:C/Joaquín María López\, 25\, Madrid\, Madrid\, 28015\, España
CATEGORIES:Actividades en la librería,Actividades para Adultos
ATTACH;FMTTYPE=image/jpeg:https://www.liberespacio.com/wp-content/uploads/2026/01/ANATOMIACLASICOS0126.jpg
ORGANIZER;CN="Librer%C3%ADa%20Liberespacio":MAILTO:info@liberespacio.com
END:VEVENT
END:VCALENDAR